BEGIN:VCALENDAR
VERSION:2.0
PRODID:-//Tukios.com/
BEGIN:VEVENT
UID:2ea3fc35-5414-4a35-b3b0-e31ea129e148@obituaries.funerariagonzalezlago.com
DTSTAMP:20260419T192806Z
DTSTART:20260420T153000Z
DTEND:20260420T163000Z
SUMMARY:Burial
DESCRIPTION:
URL:https://obituaries.funerariagonzalezlago.com/obituaries/angela-casado-rivera
LOCATION: 50 Avenida Cementerio Nacional  Bayamón  00961
GEO:18.413719;-66.172714
END:VEVENT
END:VCALENDAR