BEGIN:VCALENDAR
VERSION:2.0
PRODID:-//Tukios.com/
BEGIN:VEVENT
UID:f259607d-2799-48ce-b78a-e164169eed65@obituaries.funerariagonzalezlago.com
DTSTAMP:20260419T192252Z
DTSTART:20260420T110000Z
DTEND:20260420T141500Z
SUMMARY:Funeral Service
DESCRIPTION:
URL:https://obituaries.funerariagonzalezlago.com/obituaries/angela-casado-rivera
LOCATION: Ave. 65 Infanteria Km. 5.2  San Juan PR 00924
GEO:18.3963203;-66.0202995
END:VEVENT
END:VCALENDAR